Package: HubPub Version: 1.14.0 Command: /home/biocbuild/R/R/bin/R CMD build --keep-empty-dirs --no-resave-data HubPub StartedAt: 2025-02-04 00:19:45 -0000 (Tue, 04 Feb 2025) EndedAt: 2025-02-04 00:20:29 -0000 (Tue, 04 Feb 2025) EllapsedTime: 44.0 seconds RetCode: 0 Status: OK PackageFile: HubPub_1.14.0.tar.gz PackageFileSize: 1.386 MiB