Package: HubPub Version: 1.14.0 Command: /home/biocbuild/R/R/bin/R CMD check --install=check:HubPub.install-out.txt --library=/home/biocbuild/R/R/site-library --no-vignettes --timings HubPub_1.14.0.tar.gz StartedAt: 2025-02-04 07:55:23 -0000 (Tue, 04 Feb 2025) EndedAt: 2025-02-04 07:57:08 -0000 (Tue, 04 Feb 2025) EllapsedTime: 105.1 seconds RetCode: 0 Status: OK CheckDir: HubPub.Rcheck Warnings: 0