Package: HybridExpress Version: 1.2.0 Command: /Library/Frameworks/R.framework/Resources/bin/R CMD build --keep-empty-dirs --no-resave-data HybridExpress StartedAt: 2025-02-04 01:35:24 -0500 (Tue, 04 Feb 2025) EndedAt: 2025-02-04 01:36:50 -0500 (Tue, 04 Feb 2025) EllapsedTime: 86.2 seconds RetCode: 0 Status: OK PackageFile: HybridExpress_1.2.0.tar.gz PackageFileSize: 3.453 MiB