Package: HybridExpress Version: 1.2.0 Command: /Library/Frameworks/R.framework/Resources/bin/R CMD build --keep-empty-dirs --no-resave-data HybridExpress StartedAt: 2025-01-30 19:55:19 -0500 (Thu, 30 Jan 2025) EndedAt: 2025-01-30 19:58:13 -0500 (Thu, 30 Jan 2025) EllapsedTime: 173.7 seconds RetCode: 0 Status: OK PackageFile: HybridExpress_1.2.0.tar.gz PackageFileSize: 3.411 MiB