Package: HybridExpress Version: 1.2.0 Command: /Library/Frameworks/R.framework/Resources/bin/R CMD check --install=check:HybridExpress.install-out.txt --library=/Library/Frameworks/R.framework/Resources/library --no-vignettes --timings HybridExpress_1.2.0.tar.gz StartedAt: 2025-01-31 05:12:27 -0500 (Fri, 31 Jan 2025) EndedAt: 2025-01-31 05:20:33 -0500 (Fri, 31 Jan 2025) EllapsedTime: 485.6 seconds RetCode: 0 Status: OK CheckDir: HybridExpress.Rcheck Warnings: 0