Package: HybridExpress Version: 1.2.0 Command: /Library/Frameworks/R.framework/Resources/bin/R CMD INSTALL HybridExpress StartedAt: 2025-01-30 15:50:59 -0500 (Thu, 30 Jan 2025) EndedAt: 2025-01-30 15:51:53 -0500 (Thu, 30 Jan 2025) EllapsedTime: 54.3 seconds RetCode: 0 Status: OK