Package: HybridExpress Version: 1.2.0 Command: /home/biocbuild/bbs-3.20-bioc/R/bin/R CMD check --install=check:HybridExpress.install-out.txt --library=/home/biocbuild/bbs-3.20-bioc/R/site-library --timings HybridExpress_1.2.0.tar.gz StartedAt: 2025-02-03 23:15:56 -0500 (Mon, 03 Feb 2025) EndedAt: 2025-02-03 23:20:25 -0500 (Mon, 03 Feb 2025) EllapsedTime: 268.4 seconds RetCode: 0 Status: OK CheckDir: HybridExpress.Rcheck Warnings: 0