Package: HybridExpress Version: 1.2.0 Command: /home/biocbuild/R/R/bin/R CMD INSTALL HybridExpress StartedAt: 2025-02-03 20:50:18 -0000 (Mon, 03 Feb 2025) EndedAt: 2025-02-03 20:50:48 -0000 (Mon, 03 Feb 2025) EllapsedTime: 30.3 seconds RetCode: 0 Status: OK