Package: IFAA Version: 1.8.0 Command: rm -rf IFAA.buildbin-libdir && mkdir IFAA.buildbin-libdir && /Users/biocbuild/BBS/utils/build-universal.sh IFAA_1.8.0.tar.gz /Library/Frameworks/R.framework/Resources/bin/R IFAA.buildbin-libdir StartedAt: 2025-02-04 13:10:25 -0500 (Tue, 04 Feb 2025) EndedAt: 2025-02-04 13:11:46 -0500 (Tue, 04 Feb 2025) EllapsedTime: 80.5 seconds RetCode: 0 Status: OK PackageFile: IFAA_1.8.0.tgz PackageFileSize: 384 KiB