Package: IFAA Version: 1.8.0 Command: /home/biocbuild/bbs-3.20-bioc/R/bin/R CMD build --keep-empty-dirs --no-resave-data --md5 IFAA StartedAt: 2025-02-10 17:44:18 -0500 (Mon, 10 Feb 2025) EndedAt: 2025-02-10 17:46:36 -0500 (Mon, 10 Feb 2025) EllapsedTime: 138.2 seconds RetCode: 0 Status: OK PackageFile: IFAA_1.8.0.tar.gz PackageFileSize: 299.3 KiB