Package: IFAA Version: 1.8.0 Command: F:\biocbuild\bbs-3.20-bioc\R\bin\R.exe CMD check --no-multiarch --install=check:IFAA.install-out.txt --library=F:\biocbuild\bbs-3.20-bioc\R\library --no-vignettes --timings IFAA_1.8.0.tar.gz StartedAt: 2025-02-11 02:44:49 -0500 (Tue, 11 Feb 2025) EndedAt: 2025-02-11 02:53:53 -0500 (Tue, 11 Feb 2025) EllapsedTime: 543.8 seconds RetCode: 0 Status: OK CheckDir: IFAA.Rcheck Warnings: 0