Package: IFAA Version: 1.8.0 Command: /home/biocbuild/R/R/bin/R CMD build --keep-empty-dirs --no-resave-data IFAA StartedAt: 2025-02-11 00:12:41 -0000 (Tue, 11 Feb 2025) EndedAt: 2025-02-11 00:15:03 -0000 (Tue, 11 Feb 2025) EllapsedTime: 142.1 seconds RetCode: 0 Status: OK PackageFile: IFAA_1.8.0.tar.gz PackageFileSize: 319.6 KiB