Package: IFAA Version: 1.8.0 Command: /home/biocbuild/R/R/bin/R CMD INSTALL IFAA StartedAt: 2025-02-10 20:50:52 -0000 (Mon, 10 Feb 2025) EndedAt: 2025-02-10 20:51:27 -0000 (Mon, 10 Feb 2025) EllapsedTime: 34.8 seconds RetCode: 0 Status: OK