Package: IHW Version: 1.34.0 Command: rm -rf IHW.buildbin-libdir && mkdir IHW.buildbin-libdir && /Users/biocbuild/BBS/utils/build-universal.sh IHW_1.34.0.tar.gz /Library/Frameworks/R.framework/Resources/bin/R IHW.buildbin-libdir StartedAt: 2025-02-05 16:16:24 -0500 (Wed, 05 Feb 2025) EndedAt: 2025-02-05 16:16:30 -0500 (Wed, 05 Feb 2025) EllapsedTime: 6.9 seconds RetCode: 0 Status: OK PackageFile: IHW_1.34.0.tgz PackageFileSize: 4.863 MiB