Package: IHW Version: 1.34.0 Command: rm -rf IHW.buildbin-libdir && mkdir IHW.buildbin-libdir && /Users/biocbuild/BBS/utils/build-universal.sh IHW_1.34.0.tar.gz /Library/Frameworks/R.framework/Resources/bin/R IHW.buildbin-libdir StartedAt: 2025-02-04 13:10:45 -0500 (Tue, 04 Feb 2025) EndedAt: 2025-02-04 13:11:03 -0500 (Tue, 04 Feb 2025) EllapsedTime: 17.1 seconds RetCode: 0 Status: OK PackageFile: IHW_1.34.0.tgz PackageFileSize: 4.952 MiB