Package: IHW Version: 1.34.0 Command: /home/biocbuild/bbs-3.20-bioc/R/bin/R CMD INSTALL IHW StartedAt: 2025-02-03 15:26:06 -0500 (Mon, 03 Feb 2025) EndedAt: 2025-02-03 15:26:11 -0500 (Mon, 03 Feb 2025) EllapsedTime: 4.6 seconds RetCode: 0 Status: OK