Package: IHW Version: 1.34.0 Command: rm -rf IHW.buildbin-libdir && mkdir IHW.buildbin-libdir && F:\biocbuild\bbs-3.20-bioc\R\bin\R.exe CMD INSTALL --build --library=IHW.buildbin-libdir IHW_1.34.0.tar.gz StartedAt: 2025-02-04 08:43:45 -0500 (Tue, 04 Feb 2025) EndedAt: 2025-02-04 08:44:31 -0500 (Tue, 04 Feb 2025) EllapsedTime: 46.2 seconds RetCode: 0 Status: OK PackageFile: IHW_1.34.0.zip PackageFileSize: 1.625 MiB