Package: IHW Version: 1.34.0 Command: /home/biocbuild/R/R/bin/R CMD build --keep-empty-dirs --no-resave-data IHW StartedAt: 2025-02-04 00:22:12 -0000 (Tue, 04 Feb 2025) EndedAt: 2025-02-04 00:25:14 -0000 (Tue, 04 Feb 2025) EllapsedTime: 181.1 seconds RetCode: 0 Status: OK PackageFile: IHW_1.34.0.tar.gz PackageFileSize: 2.046 MiB