Package: IHW Version: 1.34.0 Command: /home/biocbuild/R/R/bin/R CMD INSTALL IHW StartedAt: 2025-02-03 20:39:20 -0000 (Mon, 03 Feb 2025) EndedAt: 2025-02-03 20:39:25 -0000 (Mon, 03 Feb 2025) EllapsedTime: 5.0 seconds RetCode: 0 Status: OK