Package: ILoReg Version: 1.16.0 Command: /Library/Frameworks/R.framework/Resources/bin/R CMD INSTALL ILoReg StartedAt: 2025-01-30 18:23:58 -0500 (Thu, 30 Jan 2025) EndedAt: 2025-01-30 18:24:32 -0500 (Thu, 30 Jan 2025) EllapsedTime: 34.6 seconds RetCode: 0 Status: OK