Package: ILoReg Version: 1.16.0 Command: /Library/Frameworks/R.framework/Resources/bin/R CMD build --keep-empty-dirs --no-resave-data ILoReg StartedAt: 2025-01-30 19:58:19 -0500 (Thu, 30 Jan 2025) EndedAt: 2025-01-30 20:03:41 -0500 (Thu, 30 Jan 2025) EllapsedTime: 322.1 seconds RetCode: 0 Status: OK PackageFile: ILoReg_1.16.0.tar.gz PackageFileSize: 2.734 MiB