Package: ILoReg Version: 1.16.0 Command: /home/biocbuild/bbs-3.20-bioc/R/bin/R CMD build --keep-empty-dirs --no-resave-data --md5 ILoReg StartedAt: 2025-01-30 17:42:46 -0500 (Thu, 30 Jan 2025) EndedAt: 2025-01-30 17:45:01 -0500 (Thu, 30 Jan 2025) EllapsedTime: 135.1 seconds RetCode: 0 Status: OK PackageFile: ILoReg_1.16.0.tar.gz PackageFileSize: 2.669 MiB