Package: ILoReg Version: 1.16.0 Command: rm -rf ILoReg.buildbin-libdir && mkdir ILoReg.buildbin-libdir && F:\biocbuild\bbs-3.20-bioc\R\bin\R.exe CMD INSTALL --build --library=ILoReg.buildbin-libdir ILoReg_1.16.0.tar.gz StartedAt: 2025-02-04 08:43:55 -0500 (Tue, 04 Feb 2025) EndedAt: 2025-02-04 08:44:56 -0500 (Tue, 04 Feb 2025) EllapsedTime: 60.4 seconds RetCode: 0 Status: OK PackageFile: ILoReg_1.16.0.zip PackageFileSize: 2.11 MiB