Package: ILoReg Version: 1.16.0 Command: F:\biocbuild\bbs-3.20-bioc\R\bin\R.exe CMD INSTALL ILoReg StartedAt: 2025-02-03 17:13:50 -0500 (Mon, 03 Feb 2025) EndedAt: 2025-02-03 17:14:40 -0500 (Mon, 03 Feb 2025) EllapsedTime: 50.6 seconds RetCode: 0 Status: OK