Package: IMAS Version: 1.30.0 Command: /Library/Frameworks/R.framework/Resources/bin/R CMD check --install=check:IMAS.install-out.txt --library=/Library/Frameworks/R.framework/Resources/library --no-vignettes --timings IMAS_1.30.0.tar.gz StartedAt: 2025-02-04 22:57:27 -0500 (Tue, 04 Feb 2025) EndedAt: 2025-02-04 23:03:46 -0500 (Tue, 04 Feb 2025) EllapsedTime: 379.3 seconds RetCode: 0 Status: OK CheckDir: IMAS.Rcheck Warnings: 0