Package: IMAS Version: 1.30.0 Command: /Library/Frameworks/R.framework/Resources/bin/R CMD build --keep-empty-dirs --no-resave-data IMAS StartedAt: 2025-02-03 19:43:03 -0500 (Mon, 03 Feb 2025) EndedAt: 2025-02-03 19:46:55 -0500 (Mon, 03 Feb 2025) EllapsedTime: 232.0 seconds RetCode: 0 Status: OK PackageFile: IMAS_1.30.0.tar.gz PackageFileSize: 602 KiB