Package: IMAS Version: 1.30.0 Command: /home/biocbuild/bbs-3.20-bioc/R/bin/R CMD INSTALL IMAS StartedAt: 2025-02-03 15:56:20 -0500 (Mon, 03 Feb 2025) EndedAt: 2025-02-03 15:57:05 -0500 (Mon, 03 Feb 2025) EllapsedTime: 45.5 seconds RetCode: 0 Status: OK