Package: IMAS Version: 1.30.0 Command: rm -rf IMAS.buildbin-libdir && mkdir IMAS.buildbin-libdir && F:\biocbuild\bbs-3.20-bioc\R\bin\R.exe CMD INSTALL --build --library=IMAS.buildbin-libdir IMAS_1.30.0.tar.gz StartedAt: 2025-02-04 08:43:58 -0500 (Tue, 04 Feb 2025) EndedAt: 2025-02-04 08:44:58 -0500 (Tue, 04 Feb 2025) EllapsedTime: 59.5 seconds RetCode: 0 Status: OK PackageFile: IMAS_1.30.0.zip PackageFileSize: 778.3 KiB