Package: IMAS Version: 1.30.0 Command: /home/biocbuild/R/R/bin/R CMD build --keep-empty-dirs --no-resave-data IMAS StartedAt: 2025-02-11 00:13:33 -0000 (Tue, 11 Feb 2025) EndedAt: 2025-02-11 00:15:22 -0000 (Tue, 11 Feb 2025) EllapsedTime: 109.1 seconds RetCode: 0 Status: OK PackageFile: IMAS_1.30.0.tar.gz PackageFileSize: 595 KiB