Package: IMMAN Version: 1.26.0 Command: rm -rf IMMAN.buildbin-libdir && mkdir IMMAN.buildbin-libdir && /Users/biocbuild/BBS/utils/build-universal.sh IMMAN_1.26.0.tar.gz /Library/Frameworks/R.framework/Resources/bin/R IMMAN.buildbin-libdir StartedAt: 2025-02-05 16:16:41 -0500 (Wed, 05 Feb 2025) EndedAt: 2025-02-05 16:16:57 -0500 (Wed, 05 Feb 2025) EllapsedTime: 16.8 seconds RetCode: 0 Status: OK PackageFile: IMMAN_1.26.0.tgz PackageFileSize: 79.62 KiB