Package: IMMAN Version: 1.26.0 Command: /Library/Frameworks/R.framework/Resources/bin/R CMD build --keep-empty-dirs --no-resave-data IMMAN StartedAt: 2025-02-11 01:50:49 -0500 (Tue, 11 Feb 2025) EndedAt: 2025-02-11 01:52:17 -0500 (Tue, 11 Feb 2025) EllapsedTime: 88.0 seconds RetCode: 0 Status: OK PackageFile: IMMAN_1.26.0.tar.gz PackageFileSize: 45.02 KiB