Package: IMMAN Version: 1.26.0 Command: /Library/Frameworks/R.framework/Resources/bin/R CMD check --install=check:IMMAN.install-out.txt --library=/Library/Frameworks/R.framework/Resources/library --no-vignettes --timings IMMAN_1.26.0.tar.gz StartedAt: 2025-02-11 04:53:24 -0500 (Tue, 11 Feb 2025) EndedAt: 2025-02-11 05:01:09 -0500 (Tue, 11 Feb 2025) EllapsedTime: 465.5 seconds RetCode: 0 Status: OK CheckDir: IMMAN.Rcheck Warnings: 0