Package: IMPCdata Version: 1.42.0 Command: rm -rf IMPCdata.buildbin-libdir && mkdir IMPCdata.buildbin-libdir && /Users/biocbuild/BBS/utils/build-universal.sh IMPCdata_1.42.0.tar.gz /Library/Frameworks/R.framework/Resources/bin/R IMPCdata.buildbin-libdir StartedAt: 2025-02-05 16:17:28 -0500 (Wed, 05 Feb 2025) EndedAt: 2025-02-05 16:17:31 -0500 (Wed, 05 Feb 2025) EllapsedTime: 3.4 seconds RetCode: 0 Status: OK PackageFile: IMPCdata_1.42.0.tgz PackageFileSize: 157.2 KiB