Package: IMPCdata Version: 1.42.0 Command: /Library/Frameworks/R.framework/Resources/bin/R CMD INSTALL IMPCdata StartedAt: 2025-02-03 15:08:40 -0500 (Mon, 03 Feb 2025) EndedAt: 2025-02-03 15:08:44 -0500 (Mon, 03 Feb 2025) EllapsedTime: 3.7 seconds RetCode: 0 Status: OK