Package: IMPCdata Version: 1.42.0 Command: /Library/Frameworks/R.framework/Resources/bin/R CMD check --install=check:IMPCdata.install-out.txt --library=/Library/Frameworks/R.framework/Resources/library --no-vignettes --timings IMPCdata_1.42.0.tar.gz StartedAt: 2025-02-04 05:10:59 -0500 (Tue, 04 Feb 2025) EndedAt: 2025-02-04 05:12:47 -0500 (Tue, 04 Feb 2025) EllapsedTime: 108.4 seconds RetCode: 0 Status: OK CheckDir: IMPCdata.Rcheck Warnings: 0