Package: IMPCdata Version: 1.42.0 Command: chmod a+r IMPCdata -R && F:\biocbuild\bbs-3.20-bioc\R\bin\R.exe CMD build --keep-empty-dirs --no-resave-data IMPCdata StartedAt: 2025-02-03 19:52:33 -0500 (Mon, 03 Feb 2025) EndedAt: 2025-02-03 19:53:28 -0500 (Mon, 03 Feb 2025) EllapsedTime: 54.7 seconds RetCode: 0 Status: OK PackageFile: IMPCdata_1.42.0.tar.gz PackageFileSize: 107.8 KiB