Package: IMPCdata Version: 1.42.0 Command: F:\biocbuild\bbs-3.20-bioc\R\bin\R.exe CMD check --no-multiarch --install=check:IMPCdata.install-out.txt --library=F:\biocbuild\bbs-3.20-bioc\R\library --no-vignettes --timings IMPCdata_1.42.0.tar.gz StartedAt: 2025-02-11 02:47:10 -0500 (Tue, 11 Feb 2025) EndedAt: 2025-02-11 02:48:28 -0500 (Tue, 11 Feb 2025) EllapsedTime: 77.9 seconds RetCode: 0 Status: OK CheckDir: IMPCdata.Rcheck Warnings: 0