Package: INDEED Version: 2.20.0 Command: rm -rf INDEED.buildbin-libdir && mkdir INDEED.buildbin-libdir && /Users/biocbuild/BBS/utils/build-universal.sh INDEED_2.20.0.tar.gz /Library/Frameworks/R.framework/Resources/bin/R INDEED.buildbin-libdir StartedAt: 2025-02-05 16:17:31 -0500 (Wed, 05 Feb 2025) EndedAt: 2025-02-05 16:17:39 -0500 (Wed, 05 Feb 2025) EllapsedTime: 7.9 seconds RetCode: 0 Status: OK PackageFile: INDEED_2.20.0.tgz PackageFileSize: 780.1 KiB