Package: INDEED Version: 2.20.0 Command: /Library/Frameworks/R.framework/Resources/bin/R CMD build --keep-empty-dirs --no-resave-data INDEED StartedAt: 2025-02-04 01:50:04 -0500 (Tue, 04 Feb 2025) EndedAt: 2025-02-04 01:50:16 -0500 (Tue, 04 Feb 2025) EllapsedTime: 11.4 seconds RetCode: 0 Status: OK PackageFile: INDEED_2.20.0.tar.gz PackageFileSize: 1.857 MiB