Package: INDEED Version: 2.20.0 Command: /Library/Frameworks/R.framework/Resources/bin/R CMD INSTALL INDEED StartedAt: 2025-02-03 16:13:19 -0500 (Mon, 03 Feb 2025) EndedAt: 2025-02-03 16:13:33 -0500 (Mon, 03 Feb 2025) EllapsedTime: 13.8 seconds RetCode: 0 Status: OK