Package: INDEED Version: 2.20.0 Command: chmod a+r INDEED -R && F:\biocbuild\bbs-3.20-bioc\R\bin\R.exe CMD build --keep-empty-dirs --no-resave-data INDEED StartedAt: 2025-02-03 19:52:37 -0500 (Mon, 03 Feb 2025) EndedAt: 2025-02-03 19:52:51 -0500 (Mon, 03 Feb 2025) EllapsedTime: 14.0 seconds RetCode: 0 Status: OK PackageFile: INDEED_2.20.0.tar.gz PackageFileSize: 1.857 MiB