Package: INDEED Version: 2.20.0 Command: F:\biocbuild\bbs-3.20-bioc\R\bin\R.exe CMD check --no-multiarch --install=check:INDEED.install-out.txt --library=F:\biocbuild\bbs-3.20-bioc\R\library --no-vignettes --timings INDEED_2.20.0.tar.gz StartedAt: 2025-02-04 02:53:38 -0500 (Tue, 04 Feb 2025) EndedAt: 2025-02-04 02:54:52 -0500 (Tue, 04 Feb 2025) EllapsedTime: 74.4 seconds RetCode: 0 Status: OK CheckDir: INDEED.Rcheck Warnings: 0