Package: INDEED Version: 2.20.0 Command: /home/biocbuild/R/R/bin/R CMD build --keep-empty-dirs --no-resave-data INDEED StartedAt: 2025-02-04 00:24:04 -0000 (Tue, 04 Feb 2025) EndedAt: 2025-02-04 00:24:14 -0000 (Tue, 04 Feb 2025) EllapsedTime: 10.0 seconds RetCode: 0 Status: OK PackageFile: INDEED_2.20.0.tar.gz PackageFileSize: 1.882 MiB