Package: INDEED Version: 2.20.0 Command: /home/biocbuild/R/R/bin/R CMD INSTALL INDEED StartedAt: 2025-02-03 21:02:18 -0000 (Mon, 03 Feb 2025) EndedAt: 2025-02-03 21:02:25 -0000 (Mon, 03 Feb 2025) EllapsedTime: 7.1 seconds RetCode: 0 Status: OK