Package: INPower Version: 1.42.0 Command: /Library/Frameworks/R.framework/Resources/bin/R CMD build --keep-empty-dirs --no-resave-data INPower StartedAt: 2025-02-10 19:44:25 -0500 (Mon, 10 Feb 2025) EndedAt: 2025-02-10 19:44:44 -0500 (Mon, 10 Feb 2025) EllapsedTime: 19.1 seconds RetCode: 0 Status: OK PackageFile: INPower_1.42.0.tar.gz PackageFileSize: 146.8 KiB