Package: INPower Version: 1.42.0 Command: /home/biocbuild/bbs-3.20-bioc/R/bin/R CMD check --install=check:INPower.install-out.txt --library=/home/biocbuild/bbs-3.20-bioc/R/site-library --timings INPower_1.42.0.tar.gz StartedAt: 2025-02-03 23:23:07 -0500 (Mon, 03 Feb 2025) EndedAt: 2025-02-03 23:23:25 -0500 (Mon, 03 Feb 2025) EllapsedTime: 18.0 seconds RetCode: 0 Status: OK CheckDir: INPower.Rcheck Warnings: 0