Package: INPower Version: 1.42.0 Command: rm -rf INPower.buildbin-libdir && mkdir INPower.buildbin-libdir && F:\biocbuild\bbs-3.20-bioc\R\bin\R.exe CMD INSTALL --build --library=INPower.buildbin-libdir INPower_1.42.0.tar.gz StartedAt: 2025-02-11 08:41:13 -0500 (Tue, 11 Feb 2025) EndedAt: 2025-02-11 08:41:28 -0500 (Tue, 11 Feb 2025) EllapsedTime: 15.7 seconds RetCode: 0 Status: OK PackageFile: INPower_1.42.0.zip PackageFileSize: 86.5 KiB