Package: INPower Version: 1.42.0 Command: F:\biocbuild\bbs-3.20-bioc\R\bin\R.exe CMD check --no-multiarch --install=check:INPower.install-out.txt --library=F:\biocbuild\bbs-3.20-bioc\R\library --no-vignettes --timings INPower_1.42.0.tar.gz StartedAt: 2025-02-04 02:55:25 -0500 (Tue, 04 Feb 2025) EndedAt: 2025-02-04 02:55:54 -0500 (Tue, 04 Feb 2025) EllapsedTime: 28.9 seconds RetCode: 0 Status: OK CheckDir: INPower.Rcheck Warnings: 0