Package: INPower Version: 1.42.0 Command: /home/biocbuild/R/R/bin/R CMD check --install=check:INPower.install-out.txt --library=/home/biocbuild/R/R/site-library --no-vignettes --timings INPower_1.42.0.tar.gz StartedAt: 2025-02-11 07:17:47 -0000 (Tue, 11 Feb 2025) EndedAt: 2025-02-11 07:18:02 -0000 (Tue, 11 Feb 2025) EllapsedTime: 15.0 seconds RetCode: 0 Status: OK CheckDir: INPower.Rcheck Warnings: 0