Package: INPower Version: 1.42.0 Command: /home/biocbuild/R/R/bin/R CMD INSTALL INPower StartedAt: 2025-02-03 20:24:19 -0000 (Mon, 03 Feb 2025) EndedAt: 2025-02-03 20:24:31 -0000 (Mon, 03 Feb 2025) EllapsedTime: 11.4 seconds RetCode: 0 Status: OK